View In:
ArcGIS JavaScript
ArcGIS Online Map Viewer
ArcGIS Earth
Service Description: Complete description and metadata:
https://www.esrgc.org/data/flooding
Name: MD_MeanHigherHighWater_2020/DepthGrid_10_PercentAnnualChance
Description: Complete description and metadata:
https://www.esrgc.org/data/flooding
Single Fused Map Cache: false
Extent:
XMin: 352021.3909999998
YMin: 4195393.018658461
XMax: 495825.0747926056
YMax: 4387470.6318
Spatial Reference: 26918
(26918)
LatestVCSWkid(0)
Initial Extent:
XMin: 352021.3909999998
YMin: 4195393.018658461
XMax: 495825.0747926056
YMax: 4387470.6318
Spatial Reference: 26918
(26918)
LatestVCSWkid(0)
Full Extent:
XMin: 352021.3909999998
YMin: 4195393.018658461
XMax: 495825.0747926056
YMax: 4387470.6318
Spatial Reference: 26918
(26918)
LatestVCSWkid(0)
Pixel Size X: 2.024064123644992
Pixel Size Y: 2.0240641236449894
Band Count: 1
Pixel Type: F32
RasterFunction Infos: {"rasterFunctionInfos": [{
"name": "None",
"description": "",
"help": ""
}]}
Mensuration Capabilities: Basic
Inspection Capabilities:
Has Histograms: true
Has Colormap: false
Has Multi Dimensions : false
Rendering Rule:
Min Scale: 0
Max Scale: 0
Resampling: false
Copyright Text: Maryland State Highway Administration (MDSHA), Eastern Shore Regional GIS Cooperative (ESRGC), National Oceanic and Atmospheric Administration (NOAA), United States Army Corps of Engineers (USACE), United States Geological Survey (USGS),FHWA, Maryland counties and Metropolitan Planning Organizations
Service Data Type: esriImageServiceDataTypeGeneric
Min Values: 0.00791015662252903
Max Values: 4.042090034112334
Mean Values: 3.2889680719650505
Standard Deviation Values: 0.9864584309880879
Object ID Field: OBJECTID
Fields:
-
OBJECTID
(
type: esriFieldTypeOID, alias: OBJECTID
)
-
Shape
(
type: esriFieldTypeGeometry, alias: Shape
)
-
Name
(
type: esriFieldTypeString, alias: Name, length: 200
)
-
MinPS
(
type: esriFieldTypeDouble, alias: MinPS
)
-
MaxPS
(
type: esriFieldTypeDouble, alias: MaxPS
)
-
LowPS
(
type: esriFieldTypeDouble, alias: LowPS
)
-
HighPS
(
type: esriFieldTypeDouble, alias: HighPS
)
-
Category
(
type: esriFieldTypeInteger, alias: Category
, Coded Values:
[0: Unknown]
, [1: Primary]
, [2: Overview]
, ...6 more...
)
-
Tag
(
type: esriFieldTypeString, alias: Tag, length: 100
)
-
GroupName
(
type: esriFieldTypeString, alias: GroupName, length: 100
)
-
ProductName
(
type: esriFieldTypeString, alias: ProductName, length: 100
)
-
CenterX
(
type: esriFieldTypeDouble, alias: CenterX
)
-
CenterY
(
type: esriFieldTypeDouble, alias: CenterY
)
-
ZOrder
(
type: esriFieldTypeInteger, alias: ZOrder
)
-
Shape_Length
(
type: esriFieldTypeDouble, alias: Shape_Length
)
-
Shape_Area
(
type: esriFieldTypeDouble, alias: Shape_Area
)
Default Mosaic Method: Northwest
Allowed Mosaic Methods: NorthWest,Center,LockRaster,ByAttribute,Nadir,Viewpoint,Seamline,None
SortField:
SortValue: null
Mosaic Operator: First
Default Compression Quality: 75
Default Resampling Method: Bilinear
Max Record Count: 1000
Max Image Height: 4100
Max Image Width: 15000
Max Download Image Count: 20
Max Mosaic Image Count: 20
Allow Raster Function: true
Allow Copy: true
Allow Analysis: true
Allow Compute TiePoints: false
Supports Statistics: true
Supports Advanced Queries: true
Use StandardizedQueries: true
Raster Type Infos:
Name: Raster Dataset
Description: Supports all ArcGIS Raster Datasets
Help:
Has Raster Attribute Table: false
Edit Fields Info: null
Ownership Based AccessControl For Rasters: null
Child Resources:
Info
Histograms
Statistics
Key Properties
Legend
Raster Function Infos
Supported Operations:
Export Image
Query
Identify
Measure
Compute Histograms
Compute Statistics Histograms
Get Samples
Compute Class Statistics
Query GPS Info
Find Images
Image to Map
Map to Image
Measure from Image
Image to Map Multiray
Query Boundary
Compute Pixel Location
Compute Angles
Validate
Project